BEGIN:VCALENDAR
VERSION:2.0
PRODID:-//Prairie Studio Glass - ECPv5.15.0.1//NONSGML v1.0//EN
CALSCALE:GREGORIAN
METHOD:PUBLISH
X-WR-CALNAME:Prairie Studio Glass
X-ORIGINAL-URL:https://prairiestudioglass.com
X-WR-CALDESC:Events for Prairie Studio Glass
BEGIN:VTIMEZONE
TZID:UTC
BEGIN:STANDARD
TZOFFSETFROM:+0000
TZOFFSETTO:+0000
TZNAME:UTC
DTSTART:20240101T000000
END:STANDARD
END:VTIMEZONE
BEGIN:VEVENT
DTSTART;TZID=UTC:20241205T180000
DTEND;TZID=UTC:20241205T210000
DTSTAMP:20260419T171238
CREATED:20240716T195615Z
LAST-MODIFIED:20241101T194655Z
UID:12689-1733421600-1733432400@prairiestudioglass.com
SUMMARY:Beginner Stained Glass Thursday Evenings
DESCRIPTION:November 28\, December 5 and 12
URL:https://prairiestudioglass.com/event/beginner-stained-glass-november-28-december-5-and-12/2024-12-05/
LOCATION:Prairie Studio Glass\, 587 Sargent Ave.\, Winnipeg\, Winnipeg\, R3B 1W6\, Canada
CATEGORIES:Beginner Stained Glass,Stained Glass
GEO:49.8966947;-97.1582105
X-APPLE-STRUCTURED-LOCATION;VALUE=URI;X-ADDRESS=Prairie Studio Glass 587 Sargent Ave. Winnipeg Winnipeg R3B 1W6 Canada;X-APPLE-RADIUS=500;X-TITLE=587 Sargent Ave.:geo:-97.1582105,49.8966947
END:VEVENT
END:VCALENDAR