BEGIN:VCALENDAR
VERSION:2.0
PRODID:-//Prairie Studio Glass - ECPv5.15.0.1//NONSGML v1.0//EN
CALSCALE:GREGORIAN
METHOD:PUBLISH
X-WR-CALNAME:Prairie Studio Glass
X-ORIGINAL-URL:https://prairiestudioglass.com
X-WR-CALDESC:Events for Prairie Studio Glass
BEGIN:VTIMEZONE
TZID:UTC
BEGIN:STANDARD
TZOFFSETFROM:+0000
TZOFFSETTO:+0000
TZNAME:UTC
DTSTART:20210101T000000
END:STANDARD
END:VTIMEZONE
BEGIN:VEVENT
DTSTART;TZID=UTC:20211012T183000
DTEND;TZID=UTC:20211012T213000
DTSTAMP:20260422T073628
CREATED:20211001T212210Z
LAST-MODIFIED:20211008T212444Z
UID:7573-1634063400-1634074200@prairiestudioglass.com
SUMMARY:Beginner Stained Glass Tuesday Evenings
DESCRIPTION:Tuesday evenings from 6:30 to 9:30
URL:https://prairiestudioglass.com/event/beginner-stained-glass-tuesday-evenings/2021-10-12/
LOCATION:Prairie Studio Glass\, 587 Sargent Ave.\, Winnipeg\, Winnipeg\, R3B 1W6\, Canada
CATEGORIES:Stained Glass
GEO:49.8966947;-97.1582105
X-APPLE-STRUCTURED-LOCATION;VALUE=URI;X-ADDRESS=Prairie Studio Glass 587 Sargent Ave. Winnipeg Winnipeg R3B 1W6 Canada;X-APPLE-RADIUS=500;X-TITLE=587 Sargent Ave.:geo:-97.1582105,49.8966947
END:VEVENT
END:VCALENDAR