BEGIN:VCALENDAR
VERSION:2.0
PRODID:-//Prairie Studio Glass - ECPv5.15.0.1//NONSGML v1.0//EN
CALSCALE:GREGORIAN
METHOD:PUBLISH
X-WR-CALNAME:Prairie Studio Glass
X-ORIGINAL-URL:https://prairiestudioglass.com
X-WR-CALDESC:Events for Prairie Studio Glass
BEGIN:VTIMEZONE
TZID:UTC
BEGIN:STANDARD
TZOFFSETFROM:+0000
TZOFFSETTO:+0000
TZNAME:UTC
DTSTART:20220101T000000
END:STANDARD
END:VTIMEZONE
BEGIN:VEVENT
DTSTART;TZID=UTC:20220429T090000
DTEND;TZID=UTC:20220429T120000
DTSTAMP:20260421T083047
CREATED:20220315T151020Z
LAST-MODIFIED:20220430T143716Z
UID:8449-1651222800-1651233600@prairiestudioglass.com
SUMMARY:Intermediate Stained Glass
DESCRIPTION:April 29 to June 3
URL:https://prairiestudioglass.com/event/intermediate-stained-glass-4/2022-04-29/
LOCATION:Prairie Studio Glass\, 587 Sargent Ave.\, Winnipeg\, Winnipeg\, R3B 1W6\, Canada
CATEGORIES:Beginner Stained Glass
GEO:49.8966947;-97.1582105
X-APPLE-STRUCTURED-LOCATION;VALUE=URI;X-ADDRESS=Prairie Studio Glass 587 Sargent Ave. Winnipeg Winnipeg R3B 1W6 Canada;X-APPLE-RADIUS=500;X-TITLE=587 Sargent Ave.:geo:-97.1582105,49.8966947
END:VEVENT
END:VCALENDAR