BEGIN:VCALENDAR
VERSION:2.0
PRODID:-//Prairie Studio Glass - ECPv5.15.0.1//NONSGML v1.0//EN
CALSCALE:GREGORIAN
METHOD:PUBLISH
X-WR-CALNAME:Prairie Studio Glass
X-ORIGINAL-URL:https://prairiestudioglass.com
X-WR-CALDESC:Events for Prairie Studio Glass
BEGIN:VTIMEZONE
TZID:UTC
BEGIN:STANDARD
TZOFFSETFROM:+0000
TZOFFSETTO:+0000
TZNAME:UTC
DTSTART:20250101T000000
END:STANDARD
END:VTIMEZONE
BEGIN:VEVENT
DTSTART;TZID=UTC:20251231T080000
DTEND;TZID=UTC:20251231T170000
DTSTAMP:20260422T001726
CREATED:20250205T154312Z
LAST-MODIFIED:20250205T154312Z
UID:25554-1767168000-1767200400@prairiestudioglass.com
SUMMARY:Waiting List For Birdie Plant Pokes
DESCRIPTION:
URL:https://prairiestudioglass.com/event/waiting-list-for-birdie-plant-pokes/
LOCATION:Prairie Studio Glass\, 587 Sargent Ave.\, Winnipeg\, Winnipeg\, R3B 1W6\, Canada
CATEGORIES:Birdie Plant Pokes,Stained Glass
GEO:49.8966947;-97.1582105
X-APPLE-STRUCTURED-LOCATION;VALUE=URI;X-ADDRESS=Prairie Studio Glass 587 Sargent Ave. Winnipeg Winnipeg R3B 1W6 Canada;X-APPLE-RADIUS=500;X-TITLE=587 Sargent Ave.:geo:-97.1582105,49.8966947
END:VEVENT
BEGIN:VEVENT
DTSTART;TZID=UTC:20251231T080000
DTEND;TZID=UTC:20251231T170000
DTSTAMP:20260422T001726
CREATED:20250205T154532Z
LAST-MODIFIED:20250205T154819Z
UID:25557-1767168000-1767200400@prairiestudioglass.com
SUMMARY:Waiting List For Rainbow Connection
DESCRIPTION:
URL:https://prairiestudioglass.com/event/waiting-list-for-rainbow-connection/
LOCATION:Prairie Studio Glass\, 587 Sargent Ave.\, Winnipeg\, Winnipeg\, R3B 1W6\, Canada
CATEGORIES:Rainbow Connection,Stained Glass
GEO:49.8966947;-97.1582105
X-APPLE-STRUCTURED-LOCATION;VALUE=URI;X-ADDRESS=Prairie Studio Glass 587 Sargent Ave. Winnipeg Winnipeg R3B 1W6 Canada;X-APPLE-RADIUS=500;X-TITLE=587 Sargent Ave.:geo:-97.1582105,49.8966947
END:VEVENT
BEGIN:VEVENT
DTSTART;TZID=UTC:20251231T080000
DTEND;TZID=UTC:20251231T170000
DTSTAMP:20260422T001726
CREATED:20250205T154717Z
LAST-MODIFIED:20250205T154717Z
UID:25560-1767168000-1767200400@prairiestudioglass.com
SUMMARY:Waiting List For Spring Suncatcher
DESCRIPTION:
URL:https://prairiestudioglass.com/event/waiting-list-for-spring-suncatcher/
LOCATION:Prairie Studio Glass\, 587 Sargent Ave.\, Winnipeg\, Winnipeg\, R3B 1W6\, Canada
CATEGORIES:Spring Suncatcher,Stained Glass
GEO:49.8966947;-97.1582105
X-APPLE-STRUCTURED-LOCATION;VALUE=URI;X-ADDRESS=Prairie Studio Glass 587 Sargent Ave. Winnipeg Winnipeg R3B 1W6 Canada;X-APPLE-RADIUS=500;X-TITLE=587 Sargent Ave.:geo:-97.1582105,49.8966947
END:VEVENT
BEGIN:VEVENT
DTSTART;TZID=UTC:20251231T080000
DTEND;TZID=UTC:20251231T170000
DTSTAMP:20260422T001726
CREATED:20250205T155002Z
LAST-MODIFIED:20250205T155002Z
UID:25563-1767168000-1767200400@prairiestudioglass.com
SUMMARY:Waiting List For Garden Stake
DESCRIPTION:
URL:https://prairiestudioglass.com/event/waiting-list-for-garden-stake/
LOCATION:Prairie Studio Glass\, 587 Sargent Ave.\, Winnipeg\, Winnipeg\, R3B 1W6\, Canada
CATEGORIES:Garden Stake,Stained Glass
GEO:49.8966947;-97.1582105
X-APPLE-STRUCTURED-LOCATION;VALUE=URI;X-ADDRESS=Prairie Studio Glass 587 Sargent Ave. Winnipeg Winnipeg R3B 1W6 Canada;X-APPLE-RADIUS=500;X-TITLE=587 Sargent Ave.:geo:-97.1582105,49.8966947
END:VEVENT
BEGIN:VEVENT
DTSTART;TZID=UTC:20251231T080000
DTEND;TZID=UTC:20251231T170000
DTSTAMP:20260422T001726
CREATED:20250205T155156Z
LAST-MODIFIED:20250205T155156Z
UID:25566-1767168000-1767200400@prairiestudioglass.com
SUMMARY:Waiting List For Let's Get Batty
DESCRIPTION:
URL:https://prairiestudioglass.com/event/waiting-list-for-lets-get-batty/
LOCATION:Prairie Studio Glass\, 587 Sargent Ave.\, Winnipeg\, Winnipeg\, R3B 1W6\, Canada
CATEGORIES:Let's Get Batty,Stained Glass
GEO:49.8966947;-97.1582105
X-APPLE-STRUCTURED-LOCATION;VALUE=URI;X-ADDRESS=Prairie Studio Glass 587 Sargent Ave. Winnipeg Winnipeg R3B 1W6 Canada;X-APPLE-RADIUS=500;X-TITLE=587 Sargent Ave.:geo:-97.1582105,49.8966947
END:VEVENT
BEGIN:VEVENT
DTSTART;TZID=UTC:20251231T080000
DTEND;TZID=UTC:20251231T170000
DTSTAMP:20260422T001726
CREATED:20250205T160240Z
LAST-MODIFIED:20250205T160240Z
UID:25581-1767168000-1767200400@prairiestudioglass.com
SUMMARY:Waiting List For Lead Came Holiday Ornaments
DESCRIPTION:
URL:https://prairiestudioglass.com/event/waiting-list-for-lead-came-holiday-ornaments/
LOCATION:Prairie Studio Glass\, 587 Sargent Ave.\, Winnipeg\, Winnipeg\, R3B 1W6\, Canada
CATEGORIES:Lead Came Holiday Ornaments,Stained Glass
GEO:49.8966947;-97.1582105
X-APPLE-STRUCTURED-LOCATION;VALUE=URI;X-ADDRESS=Prairie Studio Glass 587 Sargent Ave. Winnipeg Winnipeg R3B 1W6 Canada;X-APPLE-RADIUS=500;X-TITLE=587 Sargent Ave.:geo:-97.1582105,49.8966947
END:VEVENT
END:VCALENDAR